BEGIN:VCALENDAR
VERSION:2.0
PRODID:-//くまもと漱石倶楽部 - ECPv6.14.2//NONSGML v1.0//EN
CALSCALE:GREGORIAN
METHOD:PUBLISH
X-WR-CALNAME:くまもと漱石倶楽部
X-ORIGINAL-URL:https://kumamoto-sosekiclub.ka-pi-lina.com
X-WR-CALDESC:くまもと漱石倶楽部 のイベント
REFRESH-INTERVAL;VALUE=DURATION:PT1H
X-Robots-Tag:noindex
X-PUBLISHED-TTL:PT1H
BEGIN:VTIMEZONE
TZID:Asia/Tokyo
BEGIN:STANDARD
TZOFFSETFROM:+0900
TZOFFSETTO:+0900
TZNAME:JST
DTSTART:20250101T000000
END:STANDARD
END:VTIMEZONE
BEGIN:VEVENT
DTSTART;VALUE=DATE:20250807
DTEND;VALUE=DATE:20250808
DTSTAMP:20260424T080721
CREATED:20250807T063018Z
LAST-MODIFIED:20250807T063346Z
UID:3129-1754524800-1754611199@kumamoto-sosekiclub.ka-pi-lina.com
SUMMARY:国際シンポジウム
DESCRIPTION:
URL:https://kumamoto-sosekiclub.ka-pi-lina.com/event/sinpo2/
END:VEVENT
END:VCALENDAR